BEGIN:VCALENDAR
VERSION:2.0
PRODID:-//hacksw/handcal//NONSGML v1.0//EN
BEGIN:VEVENT
SUMMARY:TAE - BORDEAUX
UID:ea37cf9a-7165-4b05-b98e-56aeb488f239
DTSTART:20260404T220000Z
DTEND:20260405T220000Z
LOCATION:Localisation   
CATEGORIES:Sportif
STATUS:
DESCRIPTION:<p>TAE organise par Les Archers de Bordeaux.</p>
URL;VALUE=URI:https://www.cd33tiralarc.fr/evenements/2026/04/05/tae-bordeaux-2435750
END:VEVENT
END:VCALENDAR
