BEGIN:VCALENDAR
VERSION:2.0
PRODID:-//hacksw/handcal//NONSGML v1.0//EN
BEGIN:VEVENT
SUMMARY:TAE - MERIGNAC
UID:a80e31de-990f-4ba2-87ea-214c1740c7ee
DTSTART:20260410T220000Z
DTEND:20260412T220000Z
LOCATION:Localisation   
CATEGORIES:Sportif
STATUS:
DESCRIPTION:<p>TAE organise par les Archers du SAM.</p>
URL;VALUE=URI:https://www.cd33tiralarc.fr/evenements/2026/04/11/tae-merignac-2435755
END:VEVENT
END:VCALENDAR
