BEGIN:VCALENDAR
VERSION:2.0
PRODID:-//hacksw/handcal//NONSGML v1.0//EN
BEGIN:VEVENT
SUMMARY:TIR NATURE - PERISSAC
UID:247c4741-98bc-44e5-ae6b-a5d6129cda43
DTSTART:20260410T220000Z
DTEND:20260411T220000Z
LOCATION:Localisation   
CATEGORIES:Sportif
STATUS:
DESCRIPTION:<p>Tir Nature organise par l'ALF.</p>
URL;VALUE=URI:https://www.cd33tiralarc.fr/evenements/2026/04/11/tir-nature-perissac-2435753
END:VEVENT
END:VCALENDAR
