BEGIN:VCALENDAR
VERSION:2.0
PRODID:-//hacksw/handcal//NONSGML v1.0//EN
BEGIN:VEVENT
SUMMARY:TIR NATURE - PERISSAC
UID:45ceb0f6-fecd-483a-be91-4c0dd5f150f8
DTSTART:20260411T220000Z
DTEND:20260412T220000Z
LOCATION:Localisation   
CATEGORIES:Sportif
STATUS:
DESCRIPTION:<p>Tir Nature - 2 departs, organise par l'ALF.</p>
URL;VALUE=URI:https://www.cd33tiralarc.fr/evenements/2026/04/12/tir-nature-perissac-2435754
END:VEVENT
END:VCALENDAR
