BEGIN:VCALENDAR
VERSION:2.0
PRODID:-//hacksw/handcal//NONSGML v1.0//EN
BEGIN:VEVENT
SUMMARY:TIR NATURE - BLANQUEFORT
UID:167faa63-8efb-4580-bcfe-e0c1dffdd55c
DTSTART:20260430T220000Z
DTEND:20260503T220000Z
LOCATION:Localisation   
CATEGORIES:Sportif
STATUS:
DESCRIPTION:<p>Tir Nature au format Marathon, organise par l'Indian's
 Arc.</p>
URL;VALUE=URI:https://www.cd33tiralarc.fr/evenements/2026/05/01/tir-nature-blanquefort-2435760
END:VEVENT
END:VCALENDAR
