BEGIN:VCALENDAR
VERSION:2.0
PRODID:-//hacksw/handcal//NONSGML v1.0//EN
BEGIN:VEVENT
SUMMARY:TAE - BORDEAUX
UID:8c1fade2-41b8-40bb-8981-dab8872d3884
DTSTART:20260501T220000Z
DTEND:20260503T220000Z
LOCATION:Localisation   
CATEGORIES:Sportif
STATUS:
DESCRIPTION:<p>TAE organise par les Archers de Bordeaux.</p>
URL;VALUE=URI:https://www.cd33tiralarc.fr/evenements/2026/05/02/tae-bordeaux-2435762
END:VEVENT
END:VCALENDAR
