BEGIN:VCALENDAR
VERSION:2.0
PRODID:-//hacksw/handcal//NONSGML v1.0//EN
BEGIN:VEVENT
SUMMARY:TAE FLORENCE VILLARS
UID:a3067785-fb2b-45ff-a4f1-970addc19ca6
DTSTART:20260508T220000Z
DTEND:20260509T220000Z
LOCATION:Localisation   
CATEGORIES:Sportif
STATUS:
DESCRIPTION:<p>TAE organise par Les Archers du Bosquet.</p>
URL;VALUE=URI:https://www.cd33tiralarc.fr/evenements/2026/05/09/tae-florence-villars-2435763
END:VEVENT
END:VCALENDAR
