BEGIN:VCALENDAR
VERSION:2.0
PRODID:-//hacksw/handcal//NONSGML v1.0//EN
BEGIN:VEVENT
SUMMARY:TAEN - LE BOUSCAT
UID:7226ed7b-d034-414b-bbec-11556ddba3e5
DTSTART:20260509T220000Z
DTEND:20260510T220000Z
LOCATION:Localisation   
CATEGORIES:Sportif
STATUS:
DESCRIPTION:<p>TAE distance Nationale, support de la Division
 Departementale, organise par Les Archers du Bosquet.</p>
URL;VALUE=URI:https://www.cd33tiralarc.fr/evenements/2026/05/10/taen-le-bouscat-2435764
END:VEVENT
END:VCALENDAR
