BEGIN:VCALENDAR
VERSION:2.0
PRODID:-//hacksw/handcal//NONSGML v1.0//EN
BEGIN:VEVENT
SUMMARY:CHALLENGE 33 - ST SULPICE ET CAMEYRAC
UID:796e9015-f284-413a-ae92-5d971588cd95
DTSTART:20260515T220000Z
DTEND:20260516T220000Z
LOCATION:Localisation   
CATEGORIES:Sportif
STATUS:
DESCRIPTION:<p>Seconde etape exterieure du Challenge
 33.</p>
 
 <p> </p>
 
 <p>Plus d'informations sur la <a
 href="https://www.cd33tiralarc.fr/en-savoir-plus/challenge-debutant-33-62932"
 target="_blank" rel="noreferrer noopener">page dediee</a>.</p>
URL;VALUE=URI:https://www.cd33tiralarc.fr/evenements/2026/05/16/challenge-33-st-sulpice-et-cameyrac-2435727
END:VEVENT
END:VCALENDAR
