BEGIN:VCALENDAR
VERSION:2.0
PRODID:-//hacksw/handcal//NONSGML v1.0//EN
BEGIN:VEVENT
SUMMARY:CHALLENGE 33 - ST SULPICE ET CAMEYRAC
UID:f85eb725-f6da-4031-a5c7-a4be441c5528
DTSTART:20260522T220000Z
DTEND:20260523T220000Z
LOCATION:Localisation   
CATEGORIES:Sportif
STATUS:
DESCRIPTION:<p>Troisieme etape exterieure du Challenge
 33.</p>
 
 <p> </p>
 
 <p>Plus d'informations sur la <a
 href="https://www.cd33tiralarc.fr/en-savoir-plus/challenge-debutant-33-62932"
 target="_blank" rel="noreferrer noopener">page dediee</a>.</p>
URL;VALUE=URI:https://www.cd33tiralarc.fr/evenements/2026/05/23/challenge-33-st-sulpice-et-cameyrac-2435747
END:VEVENT
END:VCALENDAR
