BEGIN:VCALENDAR
VERSION:2.0
PRODID:-//hacksw/handcal//NONSGML v1.0//EN
BEGIN:VEVENT
SUMMARY:TAE - CADILLAC
UID:de769f90-3a68-4714-8dbc-0caa6abac184
DTSTART:20260529T220000Z
DTEND:20260531T220000Z
LOCATION:Localisation   
CATEGORIES:Sportif
STATUS:
DESCRIPTION:<p>TAE organise par Les Archers des Ducs d'Epernon.</p>
URL;VALUE=URI:https://www.cd33tiralarc.fr/evenements/2026/05/30/tae-cadillac-2435774
END:VEVENT
END:VCALENDAR
