BEGIN:VCALENDAR
VERSION:2.0
PRODID:-//hacksw/handcal//NONSGML v1.0//EN
BEGIN:VEVENT
SUMMARY:TIR 3D - SAINT MARTIN DE LAYE
UID:0fbeb0f1-502c-42a9-af69-ca779d3b9681
DTSTART:20260606T220000Z
DTEND:20260607T220000Z
LOCATION:Localisation   
CATEGORIES:Sportif
STATUS:
DESCRIPTION:<p>Tir 3D organise par l'ASL.</p>
URL;VALUE=URI:https://www.cd33tiralarc.fr/evenements/2026/06/07/tir-3d-saint-martin-de-laye-2435777
END:VEVENT
END:VCALENDAR
