BEGIN:VCALENDAR
VERSION:2.0
PRODID:-//hacksw/handcal//NONSGML v1.0//EN
BEGIN:VEVENT
SUMMARY:CHALLENGE 33 - ANDERNOS
UID:58ab6e24-8d5a-4010-9ab5-29ef887d29bb
DTSTART:20260612T220000Z
DTEND:20260613T220000Z
LOCATION:Localisation   
CATEGORIES:Sportif
STATUS:
DESCRIPTION:<p>Quatrieme etape exterieure du Challenge
 33.</p>
 
 <p> </p>
 
 <p>Plus d'informations sur la <a
 href="https://www.cd33tiralarc.fr/en-savoir-plus/challenge-debutant-33-62932"
 target="_blank" rel="noreferrer noopener">page dediee</a>.</p>
URL;VALUE=URI:https://www.cd33tiralarc.fr/evenements/2026/06/13/challenge-33-andernos-2435748
END:VEVENT
END:VCALENDAR
