BEGIN:VCALENDAR
VERSION:2.0
PRODID:-//hacksw/handcal//NONSGML v1.0//EN
BEGIN:VEVENT
SUMMARY:TAEN  - ANDERNOS
UID:0abdc83d-08e2-4676-b94b-e91ea34d7401
DTSTART:20260613T220000Z
DTEND:20260614T220000Z
LOCATION:Localisation   
CATEGORIES:Sportif
STATUS:
DESCRIPTION:<p>TAEN support du CD33 organise par Les Archers
 d'Andernos.</p>
URL;VALUE=URI:https://www.cd33tiralarc.fr/evenements/2026/06/14/taen-andernos-2435779
END:VEVENT
END:VCALENDAR
