BEGIN:VCALENDAR
VERSION:2.0
PRODID:-//hacksw/handcal//NONSGML v1.0//EN
BEGIN:VEVENT
SUMMARY:TAE - ST SULPICE ET CAMEYRAC
UID:6153eb47-ec30-4a54-9a19-48043b78c795
DTSTART:20260619T220000Z
DTEND:20260621T220000Z
LOCATION:Localisation   
CATEGORIES:Sportif
STATUS:
DESCRIPTION:<p>TAE support du CD 33 TAEI, organise par Les Archers de
 Saint Sulpice et Cameyrac.</p>
URL;VALUE=URI:https://www.cd33tiralarc.fr/evenements/2026/06/20/tae-st-sulpice-et-cameyrac-2435781
END:VEVENT
END:VCALENDAR
