BEGIN:VCALENDAR
VERSION:2.0
PRODID:-//hacksw/handcal//NONSGML v1.0//EN
BEGIN:VEVENT
SUMMARY:TAE - LA TESTE
UID:94c4b775-7624-4866-aa5e-5ccc821841fd
DTSTART:20260623T220000Z
DTEND:20260624T220000Z
LOCATION:Localisation   
CATEGORIES:Sportif
STATUS:
DESCRIPTION:<p>TAE organise par Les Archers du Bassin d'Arcachon.</p>
URL;VALUE=URI:https://www.cd33tiralarc.fr/evenements/2026/06/24/tae-la-teste-2435782
END:VEVENT
END:VCALENDAR
