BEGIN:VCALENDAR
VERSION:2.0
PRODID:-//hacksw/handcal//NONSGML v1.0//EN
BEGIN:VEVENT
SUMMARY:CHALLENGE 33 - AUROS
UID:f5d3fa98-8ac1-4649-9a9f-2217e2611308
DTSTART:20260626T220000Z
DTEND:20260627T220000Z
LOCATION:Localisation   
CATEGORIES:Sportif
STATUS:
DESCRIPTION:<p>Derniere etape du Challenge
 33!</p>
 
 <p> </p>
 
 <p>Plus d'informations sur la <a
 href="https://www.cd33tiralarc.fr/en-savoir-plus/challenge-debutant-33-62932"
 target="_blank" rel="noreferrer noopener">page dediee</a>.</p>
URL;VALUE=URI:https://www.cd33tiralarc.fr/evenements/2026/06/27/challenge-33-auros-2435749
END:VEVENT
END:VCALENDAR
