BEGIN:VCALENDAR
VERSION:2.0
PRODID:-//hacksw/handcal//NONSGML v1.0//EN
BEGIN:VEVENT
SUMMARY:TAE - AUROS
UID:8f1cf992-61d9-46de-a58a-82a35657fe11
DTSTART:20260627T220000Z
DTEND:20260628T220000Z
LOCATION:Localisation   
CATEGORIES:Sportif
STATUS:
DESCRIPTION:<p>TAE organise par Les Archers d'Auros.</p>
URL;VALUE=URI:https://www.cd33tiralarc.fr/evenements/2026/06/28/tae-auros-2435783
END:VEVENT
END:VCALENDAR
