BEGIN:VCALENDAR
VERSION:2.0
PRODID:-//hacksw/handcal//NONSGML v1.0//EN
BEGIN:VEVENT
SUMMARY:TAEI - CAMBLANES ET MEYNAC
UID:6134bb4e-b1e1-4765-8eb7-dd21545013b4
DTSTART:20260703T220000Z
DTEND:20260705T220000Z
LOCATION:Localisation   
CATEGORIES:Sportif
STATUS:
DESCRIPTION:<p>TAEI, support du CR TAE Jeunes et de la finale DRJ,
 organise par l'Arc Club le Blason des Portes de l'Entre 2 Mers.TAEI,
 support du CR TAE Jeunes et de la finale DRJ, organise par </p>
URL;VALUE=URI:https://www.cd33tiralarc.fr/evenements/2026/07/04/taei-camblanes-et-meynac-2435785
END:VEVENT
END:VCALENDAR
