BEGIN:VCALENDAR
VERSION:2.0
PRODID:-//hacksw/handcal//NONSGML v1.0//EN
BEGIN:VEVENT
SUMMARY:TIR 3D - SAINT LAURENT DE MEDOC
UID:af384bcd-b9cc-4453-a917-7e0890f5d246
DTSTART:20260704T220000Z
DTEND:20260705T220000Z
LOCATION:Localisation   
CATEGORIES:Sportif
STATUS:
DESCRIPTION:<p>Tir Nature, 24 cibles, organise par la Cocarde Archers
 de Bacchus.</p>
URL;VALUE=URI:https://www.cd33tiralarc.fr/evenements/2026/07/05/tir-3d-saint-laurent-de-medoc-2435788
END:VEVENT
END:VCALENDAR
