BEGIN:VCALENDAR
VERSION:2.0
PRODID:-//hacksw/handcal//NONSGML v1.0//EN
BEGIN:VEVENT
SUMMARY:TIR 3D - BLAYE
UID:3a6ace84-9aa7-4880-84fc-1d7a7df26a64
DTSTART:20260717T220000Z
DTEND:20260719T220000Z
LOCATION:Localisation   
CATEGORIES:Sportif
STATUS:
DESCRIPTION:<p>Tir 3D organise par les Archers d'Arsac.</p>
URL;VALUE=URI:https://www.cd33tiralarc.fr/evenements/2026/07/18/tir-3d-blaye-2435790
END:VEVENT
END:VCALENDAR
