BEGIN:VCALENDAR
VERSION:2.0
PRODID:-//hacksw/handcal//NONSGML v1.0//EN
BEGIN:VEVENT
SUMMARY:TIR 3D - SAINT MARTIN DE LAYE
UID:09d94bdd-58c6-448b-a637-5c4fae0de1f3
DTSTART:20260725T220000Z
DTEND:20260726T220000Z
LOCATION:Localisation   
CATEGORIES:Sportif
STATUS:
DESCRIPTION:<p>Tir 3D organise par l'ASL.</p>
URL;VALUE=URI:https://www.cd33tiralarc.fr/evenements/2026/07/26/tir-3d-saint-martin-de-laye-2435791
END:VEVENT
END:VCALENDAR
