BEGIN:VCALENDAR
VERSION:2.0
PRODID:-//hacksw/handcal//NONSGML v1.0//EN
BEGIN:VEVENT
SUMMARY:84 MEDOCAIN - CASTELNAU DE MEDOC
UID:b0d46006-ea67-4801-bc6b-1d4680284b21
DTSTART:20260925T220000Z
DTEND:20260927T220000Z
LOCATION:Localisation   
CATEGORIES:Sportif
STATUS:
URL;VALUE=URI:https://www.cd33tiralarc.fr/evenements/2026/09/26/84-medocain-castelnau-de-medoc-2435792
END:VEVENT
END:VCALENDAR
